BEGIN:VCALENDAR
VERSION:2.0
PRODID:-//hacksw/handcal//NONSGML v1.0//EN
BEGIN:VEVENT
SUMMARY:Regularite
UID:c54ce7e2-cd1b-49d0-a1a6-16ffc1dd154c
DTSTART:20260421T120000Z
DTEND:20260421T160000Z
LOCATION:Localisation   
CATEGORIES:Sportif
STATUS:
URL;VALUE=URI:https://bridgerochefortais.club.ffbridge.fr/evenements/2026/04/21/regularite-2322106
END:VEVENT
BEGIN:VEVENT
SUMMARY:Regularite
UID:18ec70f2-00f5-4a14-a82a-ec89ce8b50e1
DTSTART:20260423T120000Z
DTEND:20260423T160000Z
LOCATION:Localisation   
CATEGORIES:Sportif
STATUS:
URL;VALUE=URI:https://bridgerochefortais.club.ffbridge.fr/evenements/2026/04/23/regularite-2322124
END:VEVENT
BEGIN:VEVENT
SUMMARY:Tournoi de Regularite
UID:195bbc5a-8ce6-4e7c-93f2-48d570426272
DTSTART:20260428T120000Z
DTEND:20260428T160000Z
LOCATION:Localisation   
CATEGORIES:Sportif
STATUS:
URL;VALUE=URI:https://bridgerochefortais.club.ffbridge.fr/evenements/2026/04/28/tournoi-de-regularite-2363994
END:VEVENT
BEGIN:VEVENT
SUMMARY:Tournoi de Regularite
UID:f331feb3-a14d-4d5f-a74d-d7d26eacea71
DTSTART:20260428T120000Z
DTEND:20260428T160000Z
LOCATION:Localisation   
CATEGORIES:Sportif
STATUS:
URL;VALUE=URI:https://bridgerochefortais.club.ffbridge.fr/evenements/2026/04/28/tournoi-de-regularite-2363981
END:VEVENT
BEGIN:VEVENT
SUMMARY:Regularite 14h
UID:98b56b73-2228-45aa-b459-4e09f12d3496
DTSTART:20260430T114500Z
DTEND:20260430T160000Z
LOCATION:Localisation   
CATEGORIES:Sportif
STATUS:
URL;VALUE=URI:https://bridgerochefortais.club.ffbridge.fr/evenements/2026/04/30/regularite-14h-2392948
END:VEVENT
BEGIN:VEVENT
SUMMARY:Tournoi de regularite
UID:0440e2b8-37fd-447b-b9c4-69fa08cecf02
DTSTART:20260505T120000Z
DTEND:20260505T160000Z
LOCATION:Localisation   
CATEGORIES:Sportif
STATUS:
URL;VALUE=URI:https://bridgerochefortais.club.ffbridge.fr/evenements/2026/05/05/tournoi-de-regularite-2322090
END:VEVENT
BEGIN:VEVENT
SUMMARY:Simultane RONDES DE FRANCE
UID:3a8144f0-8d97-4803-bfa4-5689da09eafd
DTSTART:20260507T120000Z
DTEND:20260507T160000Z
LOCATION:Localisation   
CATEGORIES:Sportif
STATUS:
URL;VALUE=URI:https://bridgerochefortais.club.ffbridge.fr/evenements/2026/05/07/simultane-rondes-de-france-2363970
END:VEVENT
BEGIN:VEVENT
SUMMARY:Simultane ROY RENE (Livret)
UID:44e61e05-616b-46a1-883a-79d965ab13f2
DTSTART:20260512T120000Z
DTEND:20260512T160000Z
LOCATION:Localisation   
CATEGORIES:Sportif
STATUS:
URL;VALUE=URI:https://bridgerochefortais.club.ffbridge.fr/evenements/2026/05/12/simultane-roy-rene-livret-2363986
END:VEVENT
BEGIN:VEVENT
SUMMARY:Regularite 14h
UID:1d1a5454-980c-4de6-bfec-fff97624e0ba
DTSTART:20260514T114500Z
DTEND:20260514T160000Z
LOCATION:Localisation   
CATEGORIES:Sportif
STATUS:
URL;VALUE=URI:https://bridgerochefortais.club.ffbridge.fr/evenements/2026/05/14/regularite-14h-2392933
END:VEVENT
BEGIN:VEVENT
SUMMARY:Simultane des Eleves
UID:44369fd4-3bbc-483f-b55e-241f4a0c7f1f
DTSTART:20260516T071500Z
DTEND:20260516T094500Z
LOCATION:Localisation   
CATEGORIES:Sportif
STATUS:
DESCRIPTION:<p>Le Simultane des Eleves est une competition par
 paires, a caractere pedagogique, concue pour les eleves
 des Ecoles de Bridge mais ouvert a tous les</p>
 
 <p>licencies
 FFB de <strong>classement egal ou inferieur a 3eme serie
 Carreau.</strong> . Il se deroule une fois par mois d’octobre
 a mai.</p>
 
 <p>Tarif : 3€ par joueur.</p>
URL;VALUE=URI:https://bridgerochefortais.club.ffbridge.fr/evenements/2026/05/16/simultane-des-eleves-2322099
END:VEVENT
BEGIN:VEVENT
SUMMARY:Regularite
UID:076e9652-4dba-47d5-a1f8-1bf655e5dad4
DTSTART:20260519T120000Z
DTEND:20260519T160000Z
LOCATION:Localisation   
CATEGORIES:Sportif
STATUS:
URL;VALUE=URI:https://bridgerochefortais.club.ffbridge.fr/evenements/2026/05/19/regularite-2322107
END:VEVENT
BEGIN:VEVENT
SUMMARY:Simultane des Trophees du Voyage
UID:0d4b58d8-0ec7-46ac-89ac-11ec2b080283
DTSTART:20260521T120000Z
DTEND:20260521T160000Z
LOCATION:Localisation   
CATEGORIES:Sportif
STATUS:
DESCRIPTION:<p>Livret des donnes commentees.</p>
 
 <p>Tournoi suivi
 d'un moment de convivialite.</p>
URL;VALUE=URI:https://bridgerochefortais.club.ffbridge.fr/evenements/2026/05/21/simultane-des-trophees-du-voyage-2363999
END:VEVENT
BEGIN:VEVENT
SUMMARY:Tournoi de Regularite
UID:0edb77d0-d01b-4ffc-915f-da45934abf67
DTSTART:20260526T120000Z
DTEND:20260526T160000Z
LOCATION:Localisation   
CATEGORIES:Sportif
STATUS:
URL;VALUE=URI:https://bridgerochefortais.club.ffbridge.fr/evenements/2026/05/26/tournoi-de-regularite-2363993
END:VEVENT
BEGIN:VEVENT
SUMMARY:Tournoi de Regularite
UID:0372a4b0-dd04-45be-be38-ed2bd6196ccd
DTSTART:20260526T120000Z
DTEND:20260526T160000Z
LOCATION:Localisation   
CATEGORIES:Sportif
STATUS:
URL;VALUE=URI:https://bridgerochefortais.club.ffbridge.fr/evenements/2026/05/26/tournoi-de-regularite-2363980
END:VEVENT
BEGIN:VEVENT
SUMMARY:Regularite
UID:2a47c6f9-1b4a-433f-9cde-82a1fcdca08b
DTSTART:20260528T120000Z
DTEND:20260528T160000Z
LOCATION:Localisation   
CATEGORIES:Sportif
STATUS:
URL;VALUE=URI:https://bridgerochefortais.club.ffbridge.fr/evenements/2026/05/28/regularite-2322125
END:VEVENT
BEGIN:VEVENT
SUMMARY:Tournoi de regularite
UID:7c9d592d-fdea-4336-985b-972ae0e69526
DTSTART:20260602T120000Z
DTEND:20260602T160000Z
LOCATION:Localisation   
CATEGORIES:Sportif
STATUS:
URL;VALUE=URI:https://bridgerochefortais.club.ffbridge.fr/evenements/2026/06/02/tournoi-de-regularite-2322091
END:VEVENT
BEGIN:VEVENT
SUMMARY:Simultane RONDES DE FRANCE
UID:99b28288-3bd7-4463-8f4e-1b2f138298cb
DTSTART:20260604T120000Z
DTEND:20260604T160000Z
LOCATION:Localisation   
CATEGORIES:Sportif
STATUS:
URL;VALUE=URI:https://bridgerochefortais.club.ffbridge.fr/evenements/2026/06/04/simultane-rondes-de-france-2363969
END:VEVENT
BEGIN:VEVENT
SUMMARY:Simultane ROY RENE (Livret)
UID:d9fcefc3-57fa-4b11-ad17-3d60eb961e44
DTSTART:20260609T120000Z
DTEND:20260609T160000Z
LOCATION:Localisation   
CATEGORIES:Sportif
STATUS:
URL;VALUE=URI:https://bridgerochefortais.club.ffbridge.fr/evenements/2026/06/09/simultane-roy-rene-livret-2363985
END:VEVENT
BEGIN:VEVENT
SUMMARY:Regularite 14h
UID:7cbc93e3-949d-4c4a-83d3-faa9ea25ae5d
DTSTART:20260611T114500Z
DTEND:20260611T160000Z
LOCATION:Localisation   
CATEGORIES:Sportif
STATUS:
URL;VALUE=URI:https://bridgerochefortais.club.ffbridge.fr/evenements/2026/06/11/regularite-14h-2392936
END:VEVENT
BEGIN:VEVENT
SUMMARY:Regularite
UID:b694bf49-fbf7-43cc-b122-3ebc95e2b95a
DTSTART:20260616T120000Z
DTEND:20260616T160000Z
LOCATION:Localisation   
CATEGORIES:Sportif
STATUS:
URL;VALUE=URI:https://bridgerochefortais.club.ffbridge.fr/evenements/2026/06/16/regularite-2322108
END:VEVENT
BEGIN:VEVENT
SUMMARY:Tournoi de Regularite
UID:4deb5b49-d4a3-4262-8cb7-1c399cec94bf
DTSTART:20260623T120000Z
DTEND:20260623T160000Z
LOCATION:Localisation   
CATEGORIES:Sportif
STATUS:
URL;VALUE=URI:https://bridgerochefortais.club.ffbridge.fr/evenements/2026/06/23/tournoi-de-regularite-2363979
END:VEVENT
BEGIN:VEVENT
SUMMARY:Regularite
UID:f2bba19d-699f-4d93-bfc2-510a6b7aa0ed
DTSTART:20260625T120000Z
DTEND:20260625T160000Z
LOCATION:Localisation   
CATEGORIES:Sportif
STATUS:
URL;VALUE=URI:https://bridgerochefortais.club.ffbridge.fr/evenements/2026/06/25/regularite-2322126
END:VEVENT
BEGIN:VEVENT
SUMMARY:Tournoi de Regularite
UID:057f94b7-1754-42ed-ac81-9980cd6a69f7
DTSTART:20260630T120000Z
DTEND:20260630T160000Z
LOCATION:Localisation   
CATEGORIES:Sportif
STATUS:
URL;VALUE=URI:https://bridgerochefortais.club.ffbridge.fr/evenements/2026/06/30/tournoi-de-regularite-2363992
END:VEVENT
BEGIN:VEVENT
SUMMARY:Simultane RONDES DE FRANCE
UID:811e5e3f-1554-4ca8-bc00-2807bab4484a
DTSTART:20260702T120000Z
DTEND:20260702T160000Z
LOCATION:Localisation   
CATEGORIES:Sportif
STATUS:
URL;VALUE=URI:https://bridgerochefortais.club.ffbridge.fr/evenements/2026/07/02/simultane-rondes-de-france-2363968
END:VEVENT
BEGIN:VEVENT
SUMMARY:Regularite 14h
UID:f4b559dd-69fe-4eea-b7f4-8d947f31c670
DTSTART:20260709T114500Z
DTEND:20260709T160000Z
LOCATION:Localisation   
CATEGORIES:Sportif
STATUS:
URL;VALUE=URI:https://bridgerochefortais.club.ffbridge.fr/evenements/2026/07/09/regularite-14h-2392935
END:VEVENT
BEGIN:VEVENT
SUMMARY:Regularite 14h
UID:8986868f-08e7-4675-b426-d9b0795fea55
DTSTART:20260813T114500Z
DTEND:20260813T160000Z
LOCATION:Localisation   
CATEGORIES:Sportif
STATUS:
URL;VALUE=URI:https://bridgerochefortais.club.ffbridge.fr/evenements/2026/08/13/regularite-14h-2392939
END:VEVENT
BEGIN:VEVENT
SUMMARY:Regularite 14h
UID:3d013eeb-a5a6-4101-9358-371735cd5468
DTSTART:20260910T114500Z
DTEND:20260910T160000Z
LOCATION:Localisation   
CATEGORIES:Sportif
STATUS:
URL;VALUE=URI:https://bridgerochefortais.club.ffbridge.fr/evenements/2026/09/10/regularite-14h-2392938
END:VEVENT
BEGIN:VEVENT
SUMMARY:Regularite 14h
UID:b1603d70-9202-4d19-bf00-53451a66fa84
DTSTART:20261008T114500Z
DTEND:20261008T160000Z
LOCATION:Localisation   
CATEGORIES:Sportif
STATUS:
URL;VALUE=URI:https://bridgerochefortais.club.ffbridge.fr/evenements/2026/10/08/regularite-14h-2392942
END:VEVENT
BEGIN:VEVENT
SUMMARY:Regularite 14h
UID:42ddd922-d8dd-454c-b99e-89520b61915c
DTSTART:20261112T124500Z
DTEND:20261112T170000Z
LOCATION:Localisation   
CATEGORIES:Sportif
STATUS:
URL;VALUE=URI:https://bridgerochefortais.club.ffbridge.fr/evenements/2026/11/12/regularite-14h-2392941
END:VEVENT
BEGIN:VEVENT
SUMMARY:Regularite 14h
UID:878a40a9-268d-4764-9854-e56e09c98a67
DTSTART:20261210T124500Z
DTEND:20261210T170000Z
LOCATION:Localisation   
CATEGORIES:Sportif
STATUS:
URL;VALUE=URI:https://bridgerochefortais.club.ffbridge.fr/evenements/2026/12/10/regularite-14h-2392940
END:VEVENT
BEGIN:VEVENT
SUMMARY:Regularite 14h
UID:1ed5f252-2ac5-416d-a236-22df65f855a7
DTSTART:20270114T124500Z
DTEND:20270114T170000Z
LOCATION:Localisation   
CATEGORIES:Sportif
STATUS:
URL;VALUE=URI:https://bridgerochefortais.club.ffbridge.fr/evenements/2027/01/14/regularite-14h-2392934
END:VEVENT
END:VCALENDAR
