BEGIN:VCALENDAR
VERSION:2.0
PRODID:-//hacksw/handcal//NONSGML v1.0//EN
BEGIN:VEVENT
SUMMARY:Aperitif Dinatoire de Noel
UID:2ae7b16e-b07c-4b2b-88a2-39b845f2f313
DTSTART:20231219T173000Z
DTEND:20231219T200000Z
LOCATION:Localisation   
CATEGORIES:Sportif
STATUS:
DESCRIPTION:<p style="text-align:justify;"><span
 style="font-size:11pt;"><span style="line-height:normal;"><span
 style="font-family:Calibri, sans-serif;"><b><u><span
 style="font-size:12pt;">NOEL : Le tournoi du mardi 19 decembre sera
 suivi d’un aperitif dinatoire avec participation (10€).
 </span></u></b></span></span></span></p>
 
 <p
 style="text-align:justify;"><span style="font-size:11pt;"><span
 style="line-height:normal;"><span style="font-family:Calibri,
 sans-serif;"><span style="font-size:12pt;">Une <b>liste
 d’inscription est affichee au club</b> a cet effet. Les
 inscriptions devant etre faites avant le 15 decembre soir pour des
 questions d’organisation. Bien sur, les conjoints ou amis seront
 les bienvenus pour ce moment de convivialite a l’approche de
 Noel.</span></span></span></span></p>
 
URL;VALUE=URI:https://bridgerochefortais.club.ffbridge.fr/evenements/2023/12/19/aperitif-dinatoire-de-noel-1929723
END:VEVENT
BEGIN:VEVENT
SUMMARY:Tournoi de regularite
UID:8c492628-b5de-46ce-a78e-e9f9e0a57590
DTSTART:20251007T120000Z
DTEND:20251007T160000Z
LOCATION:Localisation   
CATEGORIES:Sportif
STATUS:
URL;VALUE=URI:https://bridgerochefortais.club.ffbridge.fr/evenements/2025/10/07/tournoi-de-regularite-2322083
END:VEVENT
BEGIN:VEVENT
SUMMARY:Regularite
UID:7b53fc5d-f615-48b2-97e7-186bafec921a
DTSTART:20251030T130000Z
DTEND:20251030T170000Z
LOCATION:Localisation   
CATEGORIES:Sportif
STATUS:
URL;VALUE=URI:https://bridgerochefortais.club.ffbridge.fr/evenements/2025/10/30/regularite-2322129
END:VEVENT
BEGIN:VEVENT
SUMMARY:Tournoi de regularite
UID:a734343e-30f9-45b6-8e08-fa03c28d1429
DTSTART:20251104T130000Z
DTEND:20251104T170000Z
LOCATION:Localisation   
CATEGORIES:Sportif
STATUS:
URL;VALUE=URI:https://bridgerochefortais.club.ffbridge.fr/evenements/2025/11/04/tournoi-de-regularite-2322084
END:VEVENT
BEGIN:VEVENT
SUMMARY:Tournoi de Regularite (apres l'AGE)
UID:e6436097-7029-4b6b-8228-dfe0c72fc666
DTSTART:20251202T140000Z
DTEND:20251202T171500Z
LOCATION:Localisation   
CATEGORIES:Sportif
STATUS:
URL;VALUE=URI:https://bridgerochefortais.club.ffbridge.fr/evenements/2025/12/02/tournoi-de-regularite-apres-lage-2322085
END:VEVENT
BEGIN:VEVENT
SUMMARY:Simultane des Trophees du Voyage
UID:c3a7e012-668c-46ff-842c-0e5bc059a6ff
DTSTART:20251218T130000Z
DTEND:20251218T170000Z
LOCATION:Localisation   
CATEGORIES:Sportif
STATUS:
DESCRIPTION:<p>Livret des donnes commentees.</p>
 
 <p>Tournoi suivi
 d'un moment de convivialite.</p>
URL;VALUE=URI:https://bridgerochefortais.club.ffbridge.fr/evenements/2025/12/18/simultane-des-trophees-du-voyage-2363997
END:VEVENT
BEGIN:VEVENT
SUMMARY:Tournoi de Regularite
UID:1eb74929-e04e-4ef5-81d2-5295e3b4f9aa
DTSTART:20251223T130000Z
DTEND:20251223T170000Z
LOCATION:Localisation   
CATEGORIES:Sportif
STATUS:
URL;VALUE=URI:https://bridgerochefortais.club.ffbridge.fr/evenements/2025/12/23/tournoi-de-regularite-2363977
END:VEVENT
BEGIN:VEVENT
SUMMARY:Tournoi de Regularite
UID:53343c6e-035f-44c2-86a0-ab9c24747d6a
DTSTART:20251230T130000Z
DTEND:20251230T170000Z
LOCATION:Localisation   
CATEGORIES:Sportif
STATUS:
URL;VALUE=URI:https://bridgerochefortais.club.ffbridge.fr/evenements/2025/12/30/tournoi-de-regularite-2363990
END:VEVENT
BEGIN:VEVENT
SUMMARY:Tournoi de regularite
UID:97a2a35d-6d3c-4b14-be60-8f0efca397ce
DTSTART:20260106T130000Z
DTEND:20260106T170000Z
LOCATION:Localisation   
CATEGORIES:Sportif
STATUS:
URL;VALUE=URI:https://bridgerochefortais.club.ffbridge.fr/evenements/2026/01/06/tournoi-de-regularite-2322086
END:VEVENT
BEGIN:VEVENT
SUMMARY:Regularite 14h
UID:da6e3487-8afc-492d-819a-ff68c83fa554
DTSTART:20260129T124500Z
DTEND:20260129T170000Z
LOCATION:Localisation   
CATEGORIES:Sportif
STATUS:
URL;VALUE=URI:https://bridgerochefortais.club.ffbridge.fr/evenements/2026/01/29/regularite-14h-2392928
END:VEVENT
BEGIN:VEVENT
SUMMARY:Regularite 14h
UID:5522af66-3939-44b3-95b0-847360a218f5
DTSTART:20260212T124500Z
DTEND:20260212T170000Z
LOCATION:Localisation   
CATEGORIES:Sportif
STATUS:
URL;VALUE=URI:https://bridgerochefortais.club.ffbridge.fr/evenements/2026/02/12/regularite-14h-2392932
END:VEVENT
BEGIN:VEVENT
SUMMARY:Regularite 14h
UID:4571bb23-147f-42e7-ac6e-16d1cb79837f
DTSTART:20260312T124500Z
DTEND:20260312T170000Z
LOCATION:Localisation   
CATEGORIES:Sportif
STATUS:
URL;VALUE=URI:https://bridgerochefortais.club.ffbridge.fr/evenements/2026/03/12/regularite-14h-2392943
END:VEVENT
BEGIN:VEVENT
SUMMARY:Tournoi de regularite
UID:5aac4f8c-484b-46a4-a7cc-8bbb99abb001
DTSTART:20260407T120000Z
DTEND:20260407T160000Z
LOCATION:Localisation   
CATEGORIES:Sportif
STATUS:
URL;VALUE=URI:https://bridgerochefortais.club.ffbridge.fr/evenements/2026/04/07/tournoi-de-regularite-2322089
END:VEVENT
BEGIN:VEVENT
SUMMARY:Regularite 14h
UID:28cc07b4-b121-4f07-9b93-f24ef054dc60
DTSTART:20260409T114500Z
DTEND:20260409T160000Z
LOCATION:Localisation   
CATEGORIES:Sportif
STATUS:
URL;VALUE=URI:https://bridgerochefortais.club.ffbridge.fr/evenements/2026/04/09/regularite-14h-2392937
END:VEVENT
BEGIN:VEVENT
SUMMARY:Simultane ROY RENE (Livret)
UID:d8c18fe2-7b46-4ff3-9aa8-8a818edcb54e
DTSTART:20260414T120000Z
DTEND:20260414T160000Z
LOCATION:Localisation   
CATEGORIES:Sportif
STATUS:
URL;VALUE=URI:https://bridgerochefortais.club.ffbridge.fr/evenements/2026/04/14/simultane-roy-rene-livret-2363987
END:VEVENT
BEGIN:VEVENT
SUMMARY:Simultane des Trophees du Voyage
UID:b21f9f4d-29de-41a0-8eb0-96bb9b89de4a
DTSTART:20260416T120000Z
DTEND:20260416T160000Z
LOCATION:Localisation   
CATEGORIES:Sportif
STATUS:
DESCRIPTION:<p>Livret des donnes commentees.</p>
 
 <p>Tournoi suivi
 d'un moment de convivialite.</p>
URL;VALUE=URI:https://bridgerochefortais.club.ffbridge.fr/evenements/2026/04/16/simultane-des-trophees-du-voyage-2364000
END:VEVENT
BEGIN:VEVENT
SUMMARY:Simultane des Eleves
UID:33f02af3-d156-4442-b55b-f2fd85331453
DTSTART:20260418T071500Z
DTEND:20260418T094500Z
LOCATION:Localisation   
CATEGORIES:Sportif
STATUS:
DESCRIPTION:<p>Le Simultane des Eleves est une competition par
 paires, a caractere pedagogique, concue pour les eleves
 des Ecoles de Bridge mais ouvert a tous les</p>
 
 <p>licencies
 FFB de <strong>classement egal ou inferieur a 3eme serie
 Carreau.</strong> . Il se deroule une fois par mois d’octobre
 a mai.</p>
 
 <p>Tarif : 3€ par joueur.</p>
URL;VALUE=URI:https://bridgerochefortais.club.ffbridge.fr/evenements/2026/04/18/simultane-des-eleves-2322098
END:VEVENT
END:VCALENDAR
